Workbook

Sheet 受講者登録シート
A2: 記入上の方法と注意点
B3: ① 「【1】 管理者（管理者ID）について」をお読みいただき、管理者（管理者ID)の設定を希望される場合は、
B4: 管理者の氏名・メールアドレスを、別シート「管理者登録シート」の枠内にご記入ください。
B5: ② 受講者の氏名・メールアドレスを、本シート「【2】 受講者情報のご登録」の枠内にご記入ください。
B6: お申し込み人数を超えての登録はできません。
B7: お申し込み人数を超えて受講者の情報をご記入いただいた場合は、
B8: No.1からご契約人数分の登録となりますので、ご注意ください。
B9: ③ ご記入いただいた「メールアドレス」宛に、受講に必要となる「ID／パスワード」を
B10: ご連絡いたします。「メールアドレス」に誤りがある場合、受講者に「ID／パスワード」の
B11: お知らせが届かない場合がありますので、記入に誤りがないよう、ご注意ください。
A14: 申込情報 | B14: 会社名
B15: 受講開始日 | C15: 選択してください | D15: 年 | E15: 選択してください | F15: 月 | G15: 選択してください | H15: 日 | I15: ※受講開始日は、「火曜日」を指定してください。 | O15: =C15&"/"&E15&"/"&G15 -> 選択してください/選択してください/選択してください | P15: =WEEKDAY(O15) -> #VALUE!
B16: 受講講座
A18: 【1】 管理者（管理者ID）について
A20: (1) 管理者IDは、受講者の進捗状況を確認できる権限を有するIDです。
A22: (2) 管理者の設定は必須ではありません。管理者を設定しない場合でも、受講者は受講を進めることができます。
A24: (3) 下記、（ア）と（イ）の場合に、管理者（管理者ID）を設定できます。
A26: （ア）受講者の人数に関わらず、受講者の進捗状況を、受講者以外の方（管理者）が確認する必要がある場合。
A27: （イ）複数の受講者の進捗状況を、受講者のうち1名（受講者兼管理者）が確認する必要がある場合。
B29: 【上記（イ）の場合の注意】
B30: e発明塾では、「管理者として、受講者が学習する教材の内容を確認したい」というご要望にお応えするため、
B31: 受講者IDと同様、管理者IDでも講座を閲覧できる仕様になっています。
B32: （イ）の場合、受講者兼管理者となる方に、２つのID（受講者IDと管理者ID）が割り当てられますが、
B33: 前述の理由から、２つのIDともに講座を閲覧できる仕様になっています。
B34: ただし、受講者兼管理者となる方が管理者IDにログインした状態で閲覧しても、受講者IDの受講履歴には反映されません。
B35: 受講者IDの受講履歴に反映されないことにより、受講を修了できないトラブルが多発していますのでご注意ください。
B36: 理由に関わらず、受講者IDの履歴として受講が修了していない場合、受講期間終了後に作成する報告資料において、
B37: 未修了の履歴が残ることがあります。
B38: 受講者兼管理者となる方が受講を進める場合は、管理者IDにログインした状態で受講を進めず、
B39: 受講者IDにログインした状態で受講を進めてくださいますよう、お願い申し上げます。
A41: (4) 下記、（ウ）と（エ）の場合は、管理者（管理者ID）を設定できません。
A43: （ウ）受講者の人数に関わらず、受講進捗状況を、受講者本人以外の方が確認する必要がない場合。
A44: （エ）受講者が1名であって、その受講者が管理者となる。（受講者IDにてご自身の受講進捗状況を確認できます。）
A46: (5) 管理者（管理者ID）の設定を希望される場合は、別シート「管理者登録シート」に管理者情報をご記入ください。
A47: 上記の（ウ）と（エ）にあたる場合は、管理者情報を空欄のままにしてください。
A48: 管理者情報のご記入がない場合は、管理者（管理者ID）を設定いたしません。
B49: 別シート「管理者登録シート」
A51: (6) 管理者登録シートに記入していただいたメールアドレス宛に、受講期間中、
A52: 弊社サポートセンターより「各受講者の受講進捗」についてご連絡を差し上げます。
A53: ※ 「受講進捗のご連絡」に関する詳細は、下記ＵＲＬをご覧ください。
...

Sheet 管理者登録シート
A1: 【3】 管理者情報のご登録（管理者の設定を希望される場合のみ）
A3: 注意（再掲） | K3: 知的財産入門
A4: ●複数の受講者の進捗状況を、受講者のうち1名（受講者兼管理者）が確認する必要がある場合 | K4: ケースで学ぶ知的財産
B6: e発明塾では、「管理者として、受講者が学習する教材の内容を確認したい」というご要望にお応えするため、 | K6: 特許基礎
B7: 受講者IDと同様、管理者IDでも講座を閲覧できる仕様になっています。 | K7: 本質から学ぶ特許概論
B8: （イ）の場合、受講者兼管理者となる方に、２つのID（受講者IDと管理者ID）が割り当てられますが、
B9: 前述の理由から、２つのIDともに講座を閲覧できる仕様になっています。 | K9: 特許権侵害回避
B10: ただし、受講者兼管理者となる方が管理者IDにログインした状態で閲覧しても、受講者IDの受講履歴には反映されません。 | K10: 強い特許の作り方
B11: 受講者IDの受講履歴に反映されないことにより、受講を修了できないトラブルが多発していますのでご注意ください。 | K11: アライアンスと知的財産
B12: 理由に関わらず、受講者IDの履歴として受講が修了していない場合、受講期間終了後に作成する報告資料において、 | K12: 発明提案書のための発明の把握法
B13: 未修了の履歴が残ることがあります。 | K13: 知財戦略（1）
B14: 受講者兼管理者となる方が受講を進める場合は、管理者IDにログインした状態で受講を進めず、 | K14: 課題解決思考（1）
B15: 受講者IDにログインした状態で受講を進めてくださいますよう、お願い申し上げます。
A17: よくあるメールアドレスの記入間違い
B18: 下記のような誤記入を防ぐために、手入力ではなく「コピー＆ペースト」による記入をお願いします。
B19: ①名前の読みが長音の場合
B20: 例） | C20: 王貞治→oh, oo, ou, o など
C21: 狩野英孝→kano, kanou, kanoh, eiko, eikou, eikoh など
B22: ②名前の読みで2種類の子音がある場合
B23: 例） | C23: f と h や j と z や d と z など
B24: ③記号の場合
B25: 例） | C25: -(ハイフン) と _(アンダーバー) や .(ピリオド) と ,(カンマ) など
B26: ④全角半角間違い
B27: ⑤数字と記号の混同
B28: 例） | C28: 2 と z や （オー）o と 0（ゼロ） や q(キュー) と 9(九) など
A30: 管理者
A31: No | B31: 管理者の氏名（漢字）（※1） | D31: 管理者のメールアドレス (黄色のセルにご入力ください。）
B32: 姓 | C32: 名
A33: 1
A35: （※1） | B35: 管理者IDを設定する際、受講者IDと区別できるように、氏名の前に「（管理者）」という文字列を付けます。
B36: 例として、「山田 太郎」さんの場合、「（管理者）山田 太郎」と登録いたします。
B37: e発明塾から送付されるメールの宛名に「（管理者）山田 太郎 様」と表示される場合があります。
B38: あらかじめご了承くださいませ。
A41: 以下、e発明塾事務局にて使用
A43: No | B43: 管理者の氏名（漢字） | D43: 管理者のメールアドレス
B44: 姓 | C44: 名
A45: 1 | B45: =IF(B33="","-","（管理者）"&B33) -> - | C45: =IF(C33="","-",C33) -> - | D45: =IF(D33="","-",D33) -> -
J46: ver.200930

Sheet Work
A1: メールアドレス | B1: 姓 | C1: 名
A2: =IF(受講者登録シート!#REF!="","",受講者登録シート!#REF!) -> #REF! | B2: =IF(受講者登録シート!#REF!="","",受講者登録シート!#REF!) -> #REF! | C2: =IF(受講者登録シート!#REF!="","",受講者登録シート!#REF!) -> #REF!
A3: =IF(受講者登録シート!D87="","",受講者登録シート!D87) | B3: =IF(受講者登録シート!B87="","",受講者登録シート!B87) | C3: =IF(受講者登録シート!C87="","",受講者登録シート!C87)
A4: =IF(受講者登録シート!D88="","",受講者登録シート!D88) | B4: =IF(受講者登録シート!B88="","",受講者登録シート!B88) | C4: =IF(受講者登録シート!C88="","",受講者登録シート!C88)
A5: =IF(受講者登録シート!D89="","",受講者登録シート!D89) | B5: =IF(受講者登録シート!B89="","",受講者登録シート!B89) | C5: =IF(受講者登録シート!C89="","",受講者登録シート!C89)
A6: =IF(受講者登録シート!D90="","",受講者登録シート!D90) | B6: =IF(受講者登録シート!B90="","",受講者登録シート!B90) | C6: =IF(受講者登録シート!C90="","",受講者登録シート!C90)
A7: =IF(受講者登録シート!D91="","",受講者登録シート!D91) | B7: =IF(受講者登録シート!B91="","",受講者登録シート!B91) | C7: =IF(受講者登録シート!C91="","",受講者登録シート!C91)
A8: =IF(受講者登録シート!D92="","",受講者登録シート!D92) | B8: =IF(受講者登録シート!B92="","",受講者登録シート!B92) | C8: =IF(受講者登録シート!C92="","",受講者登録シート!C92)
A9: =IF(受講者登録シート!D93="","",受講者登録シート!D93) | B9: =IF(受講者登録シート!B93="","",受講者登録シート!B93) | C9: =IF(受講者登録シート!C93="","",受講者登録シート!C93)
A10: =IF(受講者登録シート!D94="","",受講者登録シート!D94) | B10: =IF(受講者登録シート!B94="","",受講者登録シート!B94) | C10: =IF(受講者登録シート!C94="","",受講者登録シート!C94)
A11: =IF(受講者登録シート!D95="","",受講者登録シート!D95) | B11: =IF(受講者登録シート!B95="","",受講者登録シート!B95) | C11: =IF(受講者登録シート!C95="","",受講者登録シート!C95)
A12: =IF(受講者登録シート!D96="","",受講者登録シート!D96) | B12: =IF(受講者登録シート!B96="","",受講者登録シート!B96) | C12: =IF(受講者登録シート!C96="","",受講者登録シート!C96)
A13: =IF(受講者登録シート!D97="","",受講者登録シート!D97) | B13: =IF(受講者登録シート!B97="","",受講者登録シート!B97) | C13: =IF(受講者登録シート!C97="","",受講者登録シート!C97)
A14: =IF(受講者登録シート!D98="","",受講者登録シート!D98) | B14: =IF(受講者登録シート!B98="","",受講者登録シート!B98) | C14: =IF(受講者登録シート!C98="","",受講者登録シート!C98)
... A76: =IF(受講者登録シート!D160="","",受講者登録シート!D160) | B76: =IF(受講者登録シート!B160="","",受講者登録シート!B160) | C76: =IF(受講者登録シート!C160="","",受講者登録シート!C160)
A77: =IF(受講者登録シート!D172="","",受講者登録シート!D172) | B77: =IF(受講者登録シート!B172="","",受講者登録シート!B172) | C77: =IF(受講者登録シート!C172="","",受講者登録シート!C172)
A78: =IF(受講者登録シート!D194="","",受講者登録シート!D194) | B78: =IF(受講者登録シート!B194="","",受講者登録シート!B194) | C78: =IF(受講者登録シート!C194="","",受講者登録シート!C194)
A79: =IF(受講者登録シート!D195="","",受講者登録シート!D195) | B79: =IF(受講者登録シート!B195="","",受講者登録シート!B195) | C79: =IF(受講者登録シート!C195="","",受講者登録シート!C195)
A80: =IF(受講者登録シート!D196="","",受講者登録シート!D196) | B80: =IF(受講者登録シート!B196="","",受講者登録シート!B196) | C80: =IF(受講者登録シート!C196="","",受講者登録シート!C196)
A81: =IF(受講者登録シート!D197="","",受講者登録シート!D197) | B81: =IF(受講者登録シート!B197="","",受講者登録シート!B197) | C81: =IF(受講者登録シート!C197="","",受講者登録シート!C197)
A82: =IF(受講者登録シート!#REF!="","",受講者登録シート!#REF!) -> #REF! | B82: =IF(受講者登録シート!#REF!="","",受講者登録シート!#REF!) -> #REF! | C82: =IF(受講者登録シート!#REF!="","",受講者登録シート!#REF!) -> #REF!
A83: =IF(受講者登録シート!#REF!="","",受講者登録シート!#REF!) -> #REF! | B83: =IF(受講者登録シート!#REF!="","",受講者登録シート!#REF!) -> #REF! | C83: =IF(受講者登録シート!#REF!="","",受講者登録シート!#REF!) -> #REF!
A84: =IF(受講者登録シート!#REF!="","",受講者登録シート!#REF!) -> #REF! | B84: =IF(受講者登録シート!#REF!="","",受講者登録シート!#REF!) -> #REF! | C84: =IF(受講者登録シート!#REF!="","",受講者登録シート!#REF!) -> #REF!
A85: =IF(受講者登録シート!#REF!="","",受講者登録シート!#REF!) -> #REF! | B85: =IF(受講者登録シート!#REF!="","",受講者登録シート!#REF!) -> #REF! | C85: =IF(受講者登録シート!#REF!="","",受講者登録シート!#REF!) -> #REF!
A86: =IF(受講者登録シート!#REF!="","",受講者登録シート!#REF!) -> #REF! | B86: =IF(受講者登録シート!#REF!="","",受講者登録シート!#REF!) -> #REF! | C86: =IF(受講者登録シート!#REF!="","",受講者登録シート!#REF!) -> #REF!
A87: =IF(受講者登録シート!#REF!="","",受講者登録シート!#REF!) -> #REF! | B87: =IF(受講者登録シート!#REF!="","",受講者登録シート!#REF!) -> #REF! | C87: =IF(受講者登録シート!#REF!="","",受講者登録シート!#REF!) -> #REF!
A88: =IF(受講者登録シート!D207="","",受講者登録シート!D207) | B88: =IF(受講者登録シート!B207="","",受講者登録シート!B207) | C88: =IF(受講者登録シート!C207="","",受講者登録シート!C207)
A89: =IF(受講者登録シート!D208="","",受講者登録シート!D208) | B89: =IF(受講者登録シート!B208="","",受講者登録シート!B208) | C89: =IF(受講者登録シート!C208="","",受講者登録シート!C208)
A90: =IF(受講者登録シート!D209="","",受講者登録シート!D209) | B90: =IF(受講者登録シート!B209="","",受講者登録シート!B209) | C90: =IF(受講者登録シート!C209="","",受講者登録シート!C209)
A91: =IF(受講者登録シート!D210="","",受講者登録シート!D210) | B91: =IF(受講者登録シート!B210="","",受講者登録シート!B210) | C91: =IF(受講者登録シート!C210="","",受講者登録シート!C210)
A92: =IF(受講者登録シート!D211="","",受講者登録シート!D211) | B92: =IF(受講者登録シート!B211="","",受講者登録シート!B211) | C92: =IF(受講者登録シート!C211="","",受講者登録シート!C211)
A93: =IF(受講者登録シート!D212="","",受講者登録シート!D212) | B93: =IF(受講者登録シート!B212="","",受講者登録シート!B212) | C93: =IF(受講者登録シート!C212="","",受講者登録シート!C212)
A94: =IF(受講者登録シート!D213="","",受講者登録シート!D213) | B94: =IF(受講者登録シート!B213="","",受講者登録シート!B213) | C94: =IF(受講者登録シート!C213="","",受講者登録シート!C213)
A95: =IF(受講者登録シート!D214="","",受講者登録シート!D214) | B95: =IF(受講者登録シート!B214="","",受講者登録シート!B214) | C95: =IF(受講者登録シート!C214="","",受講者登録シート!C214)
A96: =IF(受講者登録シート!D215="","",受講者登録シート!D215) | B96: =IF(受講者登録シート!B215="","",受講者登録シート!B215) | C96: =IF(受講者登録シート!C215="","",受講者登録シート!C215)
A97: =IF(受講者登録シート!D216="","",受講者登録シート!D216) | B97: =IF(受講者登録シート!B216="","",受講者登録シート!B216) | C97: =IF(受講者登録シート!C216="","",受講者登録シート!C216)
A98: =IF(受講者登録シート!D217="","",受講者登録シート!D217) | B98: =IF(受講者登録シート!B217="","",受講者登録シート!B217) | C98: =IF(受講者登録シート!C217="","",受講者登録シート!C217)
A99: =IF(受講者登録シート!D218="","",受講者登録シート!D218) | B99: =IF(受講者登録シート!B218="","",受講者登録シート!B218) | C99: =IF(受講者登録シート!C218="","",受講者登録シート!C218)
... A149: =IF(受講者登録シート!D268="","",受講者登録シート!D268) | B149: =IF(受講者登録シート!B268="","",受講者登録シート!B268) | C149: =IF(受講者登録シート!C268="","",受講者登録シート!C268)
